BEGIN:VCALENDAR
VERSION:2.0
PRODID:-//World Class Training - ECPv6.11.2//NONSGML v1.0//EN
CALSCALE:GREGORIAN
METHOD:PUBLISH
X-ORIGINAL-URL:https://www.worldclasstraining.co.uk
X-WR-CALDESC:Events for World Class Training
REFRESH-INTERVAL;VALUE=DURATION:PT1H
X-Robots-Tag:noindex
X-PUBLISHED-TTL:PT1H
BEGIN:VTIMEZONE
TZID:Europe/London
BEGIN:DAYLIGHT
TZOFFSETFROM:+0000
TZOFFSETTO:+0100
TZNAME:BST
DTSTART:20250330T010000
END:DAYLIGHT
BEGIN:STANDARD
TZOFFSETFROM:+0100
TZOFFSETTO:+0000
TZNAME:GMT
DTSTART:20251026T010000
END:STANDARD
END:VTIMEZONE
BEGIN:VEVENT
DTSTART;TZID=Europe/London:20251219T093000
DTEND;TZID=Europe/London:20251219T170000
DTSTAMP:20260420T110417
CREATED:20251201T133010Z
LAST-MODIFIED:20251209T124231Z
UID:10001384-1766136600-1766163600@www.worldclasstraining.co.uk
SUMMARY:Emergency First Aid at Work Course (EFAW) - Brixham\, Devon - 19th December 2025
DESCRIPTION:Emergency First Aid at Work / EFAW Course\n9.30am-5 pm \nThe Emergency First Aid at Work course is taking place at the WCT head office in Brixham\, South Devon. Covering the basics of first aid at work so ideal for those working in an office or low-risk workplace\, or even at home. \nYou must be able to demonstrate first aid to someone lying on the floor\, i.e. administer Cardio Pulmonary Resuscitation to a casualty. There is a short multi choice question paper at the end of the course. All candidates must complete the practical observation and written tests during the day. All efforts are made to ensure any needs of the candidate are met in order to ensure a fair method of assessment. \nOur Emergency First Aid at Work EFAW course will cover the minimum of:\n\nRole of the first aider\nAccident reporting\nPrimary assessments\nAdminister first aid to a casualty who is breathing normally\nAdminister first aid to an unresponsive casualty who is not breathing normally\nCPR and Choking\nWounds & Bleeding\nShock\nBurns\nOther topics as may be required for your work place\n\nTO SEE MORE\, VISIT OUR COURSE SPEC PAGE HERE.
URL:https://www.worldclasstraining.co.uk/first-aid-course/emergency-first-aid-at-work-course-efaw-brixham-devon-19th-december-2025/
LOCATION:Brixham Laboratory Building\, Brixham Laboratory Building\, Freshwater Quarry\, Brixham\, TQ5 8BA
CATEGORIES:Emergency First Aid at Work,First Aid for the Workplace,Outdoor First Aid - Blended Learning
ATTACH;FMTTYPE=:
GEO:50.4015358;-3.5175947
X-APPLE-STRUCTURED-LOCATION;VALUE=URI;X-ADDRESS=Brixham Laboratory Building Brixham Laboratory Building Freshwater Quarry Brixham TQ5 8BA;X-APPLE-RADIUS=500;X-TITLE=Brixham Laboratory Building\, Freshwater Quarry:geo:-3.5175947,50.4015358
END:VEVENT
BEGIN:VEVENT
DTSTART;TZID=Europe/London:20251219T093000
DTEND;TZID=Europe/London:20251219T170000
DTSTAMP:20260420T110417
CREATED:20251209T124354Z
LAST-MODIFIED:20251209T124354Z
UID:10001389-1766136600-1766163600@www.worldclasstraining.co.uk
SUMMARY:Paediatric First Aid [QNUK Qualification - RQF] - Brixham\, Devon - 19th December 2025
DESCRIPTION:Paediatric First Aid Course [12 hours QNUK qualification]\nBlended Learning Course\n9.30am-5 pm \nThis course is taking place at the WCT head office in Brixham\, South Devon. Covering Paediatric first aid. This qualification is aimed at those working in an early years setting who require a paediatric first aid qualification to meet the early years foundation stage requirements. The qualification is valid for 3 years. \nThis is a blended learning course. it requires online learning to be completed before the in-person date on 19th December. You will be set up with an account for the WCT online learning platform – log in details will be emailed to you. \nAbout Blended Learning \nWith this Blended Learning option\, you can learn online at your own pace before attending an in-person session with practical scenarios and an assessment. \nOnce you complete your booking\, log in details for the online content will be sent to you automatically by email (please note this can show up in your junk/spam folder). Allow around 8 hours of total online learning time. This must be completed before the practical day.
URL:https://www.worldclasstraining.co.uk/first-aid-course/paediatric-first-aid-qnuk-qualification-rqf-brixham-devon-19th-december-2025/
LOCATION:Brixham Laboratory Building\, Brixham Laboratory Building\, Freshwater Quarry\, Brixham\, TQ5 8BA
CATEGORIES:Emergency First Aid at Work,First Aid for the Workplace,Outdoor First Aid - Blended Learning
ATTACH;FMTTYPE=:
GEO:50.4015358;-3.5175947
X-APPLE-STRUCTURED-LOCATION;VALUE=URI;X-ADDRESS=Brixham Laboratory Building Brixham Laboratory Building Freshwater Quarry Brixham TQ5 8BA;X-APPLE-RADIUS=500;X-TITLE=Brixham Laboratory Building\, Freshwater Quarry:geo:-3.5175947,50.4015358
END:VEVENT
END:VCALENDAR